BEGIN:VCALENDAR
VERSION:2.0
PRODID:-//icchurchmd.org//eCatholic//EN
X-WR-TIMEZONE:LocalTZ
BEGIN:VTIMEZONE
TZID:LocalTZ
X-LIC-LOCATION:LocalTZ
BEGIN:DAYLIGHT
TZOFFSETFROM:-0500
TZOFFSETTO:-0400
TZNAME:LocalTZ
DTSTART:19700308T020000
RRULE:FREQ=YEARLY;BYMONTH=3;BYDAY=2SU
END:DAYLIGHT
BEGIN:STANDARD
TZOFFSETFROM:-0400
TZOFFSETTO:-0500
TZNAME:LocalTZ
DTSTART:19701101T020000
RRULE:FREQ=YEARLY;BYMONTH=11;BYDAY=1SU
END:STANDARD
END:VTIMEZONE
BEGIN:VEVENT
UID:801332@icchurchmd.org
DTSTAMP:20260420T014619Z
DTSTART:20260421T190000
DTEND:20260421T200000
RRULE:FREQ=WEEKLY;BYDAY=TU
EXDATE:20181225T190000,20190820T190000,20191001T190000,20191029T190000,202
 00310T190000,20200324T190000,20200414T190000,20200421T190000,20200505T1900
 00,20200512T190000,20200519T190000,20200526T190000
SUMMARY:Intercessory Prayer Group
END:VEVENT
BEGIN:VEVENT
UID:801340@icchurchmd.org
DTSTAMP:20260420T014619Z
DTSTART:20260503T120000
DTEND:20260503T130000
RRULE:FREQ=MONTHLY;BYDAY=SU;BYSETPOS=1
EXDATE:20200405T120000
SUMMARY:Knights of St. John Meeting
END:VEVENT
BEGIN:VEVENT
UID:970375@icchurchmd.org
DTSTAMP:20260420T014619Z
DTSTART:20260506T180000
DTEND:20260506T190000
RRULE:FREQ=MONTHLY;BYDAY=WE;BYSETPOS=1
EXDATE:20220302T180000,20250101T180000
SUMMARY:St. Vincent de Paul Society Meeting
END:VEVENT
BEGIN:VEVENT
UID:1458846@icchurchmd.org
DTSTAMP:20260420T014619Z
DTSTART:20260425T120000
DTEND:20260425T123000
RRULE:FREQ=WEEKLY;BYDAY=SA
EXDATE:20210626T120000,20211016T120000,20221015T120000
SUMMARY:Pray the Rosary in Mary's Garden with Us
END:VEVENT
BEGIN:VEVENT
UID:1499886@icchurchmd.org
DTSTAMP:20260420T014619Z
DTSTART:20260502T090000
DTEND:20260502T093000
RRULE:FREQ=MONTHLY;BYDAY=SA;BYSETPOS=1
EXDATE:20210403T090000,20230805T090000,20240706T090000
SUMMARY:First Saturday Mass
END:VEVENT
BEGIN:VEVENT
UID:1518054@icchurchmd.org
DTSTAMP:20260420T014619Z
DTSTART:20260420T080000
DTEND:20260420T083000
RRULE:FREQ=WEEKLY;BYDAY=MO
EXDATE:20210531T080000,20210802T080000,20210830T080000,20211011T080000,202
 11101T080000,20220711T080000,20220718T080000,20220801T080000,20220808T0800
 00,20220815T080000,20220822T080000,20230410T080000,20230522T080000,2023073
 1T080000,20230807T080000,20231225T080000,20240101T080000,20240624T080000,2
 0240701T080000,20240708T080000,20241209T080000,20251208T080000
SUMMARY:Daily Mass
END:VEVENT
BEGIN:VEVENT
UID:1525149@icchurchmd.org
DTSTAMP:20260420T014619Z
DTSTART:20260421T080000
DTEND:20260421T083000
RRULE:FREQ=WEEKLY;BYDAY=TU
EXDATE:20210601T080000,20210831T080000,20220712T080000,20220719T080000,202
 20802T080000,20220809T080000,20220816T080000,20230411T080000,20230523T0800
 00,20230725T080000,20230801T080000,20230808T080000,20230815T080000,2023112
 1T080000,20231226T080000,20240305T080000,20240625T080000,20240702T080000,2
 0240709T080000,20241126T080000,20241224T080000,20241231T080000,20250610T08
 0000
SUMMARY:Daily Mass
END:VEVENT
BEGIN:VEVENT
UID:1525150@icchurchmd.org
DTSTAMP:20260420T014619Z
DTSTART:20260422T080000
DTEND:20260422T083000
RRULE:FREQ=WEEKLY;BYDAY=WE
EXDATE:20210217T080000,20210901T080000,20220713T080000,20220803T080000,202
 20810T080000,20220817T080000,20230222T080000,20230412T080000,20230524T0800
 00,20230802T080000,20230809T080000,20231101T080000,20231122T080000,2023122
 7T080000,20240214T080000,20240306T080000,20240626T080000,20240703T080000,2
 0240710T080000,20241120T080000,20241127T080000,20241225T080000,20250101T08
 0000,20250115T080000,20250305T080000,20250611T080000,20260218T080000
SUMMARY:Daily Mass
END:VEVENT
BEGIN:VEVENT
UID:1525151@icchurchmd.org
DTSTAMP:20260420T014619Z
DTSTART:20260424T080000
DTEND:20260424T083000
RRULE:FREQ=WEEKLY;BYDAY=FR
EXDATE:20210402T080000,20210730T080000,20210903T080000,20211126T080000,202
 11224T080000,20211231T080000,20220415T080000,20220805T080000,20220812T0800
 00,20220819T080000,20230414T080000,20230804T080000,20230811T080000,2023112
 4T080000,20231208T080000,20231229T080000,20240329T080000,20240628T080000,2
 0240705T080000,20240712T080000,20241122T080000,20241129T080000,20250117T08
 0000,20250418T080000,20250815T080000,20260403T080000
SUMMARY:Daily Mass
END:VEVENT
BEGIN:VEVENT
UID:1903102@icchurchmd.org
DTSTAMP:20260420T014619Z
DTSTART:20260514T193000
DTEND:20260514T210000
RRULE:FREQ=MONTHLY;BYDAY=TH;BYSETPOS=2
SUMMARY:Knights of Columbus Meeting
END:VEVENT
BEGIN:VEVENT
UID:1903103@icchurchmd.org
DTSTAMP:20260420T014619Z
DTSTART:20260423T193000
DTEND:20260423T210000
RRULE:FREQ=MONTHLY;BYDAY=TH;BYSETPOS=4
EXDATE:20220822T193000,20231121T193000
SUMMARY:Knights of Columbus Meeting
END:VEVENT
BEGIN:VEVENT
UID:1903458@icchurchmd.org
DTSTAMP:20260420T014619Z
DTSTART:20260510T120000
DTEND:20260510T130000
RRULE:FREQ=MONTHLY;BYDAY=SU;BYSETPOS=2
SUMMARY:Ladies Auxiliary of the Knights of St. John
END:VEVENT
BEGIN:VEVENT
UID:1903466@icchurchmd.org
DTSTAMP:20260420T014619Z
DTSTART:20260421T100000
DTEND:20260421T120000
RRULE:FREQ=WEEKLY;BYDAY=TU
EXDATE:20220816T100000,20241231T100000
SUMMARY:Rosary Making Group
END:VEVENT
BEGIN:VEVENT
UID:2003572@icchurchmd.org
DTSTAMP:20260420T014619Z
DTSTART:20260520T180000
DTEND:20260520T203000
RRULE:FREQ=MONTHLY;BYDAY=WE;BYSETPOS=3
EXDATE:20221221T180000,20240320T180000,20240417T180000
SUMMARY:Our Daybreak Journey
END:VEVENT
BEGIN:VEVENT
UID:2051987@icchurchmd.org
DTSTAMP:20260420T014619Z
DTSTART:20260422T183000
DTEND:20260422T193000
RRULE:FREQ=WEEKLY;BYDAY=WE
EXDATE:20230215T183000,20230412T183000,20230802T183000,20230809T183000,202
 31101T183000,20231122T183000,20231227T183000,20240214T183000,20240626T1830
 00,20240703T183000,20240710T183000,20241120T183000,20241127T183000,2024122
 5T183000,20250101T183000,20250115T183000,20250611T183000,20260218T183000,2
 0260325T183000
SUMMARY:Confession
END:VEVENT
BEGIN:VEVENT
UID:2078963@icchurchmd.org
DTSTAMP:20260420T014619Z
DTSTART:20260423T190000
DTEND:20260423T203000
RRULE:FREQ=WEEKLY;BYDAY=TH
SUMMARY:AA Meeting
END:VEVENT
BEGIN:VEVENT
UID:2078991@icchurchmd.org
DTSTAMP:20260420T014619Z
DTSTART:20260419T183000
DTEND:20260419T200000
RRULE:FREQ=WEEKLY;BYDAY=SU
EXDATE:20230305T183000
SUMMARY:AA Meeting
END:VEVENT
BEGIN:VEVENT
UID:2078999@icchurchmd.org
DTSTAMP:20260420T014619Z
DTSTART:20260503T140000
DTEND:20260503T150000
RRULE:FREQ=MONTHLY;BYDAY=SU;BYSETPOS=1
EXDATE:20240303T140000
SUMMARY:DSSF Meeting
END:VEVENT
BEGIN:VEVENT
UID:2079050@icchurchmd.org
DTSTAMP:20260420T014619Z
DTSTART:20260509T090000
DTEND:20260509T120000
RRULE:FREQ=MONTHLY;BYDAY=SA;BYSETPOS=2
SUMMARY:AA Meeting
END:VEVENT
BEGIN:VEVENT
UID:2763968@icchurchmd.org
DTSTAMP:20260420T014619Z
DTSTART:20260425T160000
DTEND:20260425T170000
RRULE:FREQ=WEEKLY;BYDAY=SA
SUMMARY:Vigil Mass (for Sunday)
END:VEVENT
BEGIN:VEVENT
UID:2763970@icchurchmd.org
DTSTAMP:20260420T014619Z
DTSTART:20260419T070000
DTEND:20260419T080000
RRULE:FREQ=WEEKLY;BYDAY=SU
SUMMARY:Mass
END:VEVENT
BEGIN:VEVENT
UID:2763973@icchurchmd.org
DTSTAMP:20260420T014619Z
DTSTART:20260419T090000
DTEND:20260419T100000
RRULE:FREQ=WEEKLY;BYDAY=SU
SUMMARY:Mass
END:VEVENT
BEGIN:VEVENT
UID:2763975@icchurchmd.org
DTSTAMP:20260420T014619Z
DTSTART:20260419T110000
DTEND:20260419T120000
RRULE:FREQ=WEEKLY;BYDAY=SU
EXDATE:20250518T110000
SUMMARY:Mass
END:VEVENT
BEGIN:VEVENT
UID:2763989@icchurchmd.org
DTSTAMP:20260420T014619Z
DTSTART:20260424T083000
DTEND:20260424T093000
RRULE:FREQ=WEEKLY;BYDAY=FR
EXDATE:20260403T083000
SUMMARY:Eucharistic Adoration
END:VEVENT
BEGIN:VEVENT
UID:2821513@icchurchmd.org
DTSTAMP:20260420T014619Z
DTSTART:20260503T120000
DTEND:20260503T150000
SUMMARY:Parish Dinner
END:VEVENT
BEGIN:VEVENT
UID:2848178@icchurchmd.org
DTSTAMP:20260420T014619Z
DTSTART:20260502T073000
DTEND:20260502T083000
RRULE:FREQ=MONTHLY;BYDAY=SA;BYSETPOS=1
SUMMARY:The Upper Room - Men's Prayer Group
END:VEVENT
BEGIN:VEVENT
UID:2848193@icchurchmd.org
DTSTAMP:20260420T014619Z
DTSTART:20260505T180000
DTEND:20260505T190000
RRULE:FREQ=MONTHLY;BYDAY=TU;BYSETPOS=1
SUMMARY:COR Men's Group Meeting
END:VEVENT
BEGIN:VEVENT
UID:2848196@icchurchmd.org
DTSTAMP:20260420T014619Z
DTSTART;VALUE=DATE:20260421
DTEND;VALUE=DATE:20260422
RRULE:FREQ=MONTHLY;BYDAY=TU;BYSETPOS=3
SUMMARY:COR Men's Group Meeting
END:VEVENT
BEGIN:VEVENT
UID:2848216@icchurchmd.org
DTSTAMP:20260420T014619Z
DTSTART:20260505T193000
DTEND:20260505T210000
RRULE:FREQ=MONTHLY;BYDAY=TU;BYSETPOS=1
SUMMARY:Knights of Columbus - Business Meeting
END:VEVENT
BEGIN:VEVENT
UID:2848217@icchurchmd.org
DTSTAMP:20260420T014619Z
DTSTART:20260421T193000
DTEND:20260421T210000
RRULE:FREQ=MONTHLY;BYDAY=TU;BYSETPOS=3
SUMMARY:Knights of Columbus - Social Meeting
END:VEVENT
BEGIN:VEVENT
UID:2869701@icchurchmd.org
DTSTAMP:20260420T014619Z
DTSTART:20260420T180000
DTEND:20260420T200000
RRULE:FREQ=WEEKLY;BYDAY=MO
SUMMARY:AA meeting
END:VEVENT
BEGIN:VEVENT
UID:2912272@icchurchmd.org
DTSTAMP:20260420T014619Z
DTSTART:20260419T080000
DTEND:20260419T090000
RRULE:FREQ=WEEKLY;UNTIL=20260511;BYDAY=SU
EXDATE:20251130T080000,20251214T080000,20251228T080000,20260104T080000,202
 60125T080000,20260405T080000,20260510T080000
SUMMARY:Faith Formation
END:VEVENT
BEGIN:VEVENT
UID:2912290@icchurchmd.org
DTSTAMP:20260420T014619Z
DTSTART:20260510T080000
DTEND:20260510T090000
SUMMARY:Faith Formation - FINAL CLASS FOR THIS YEAR
END:VEVENT
BEGIN:VEVENT
UID:2915176@icchurchmd.org
DTSTAMP:20260420T014619Z
DTSTART:20260505T190000
DTEND:20260505T200000
SUMMARY:8th Grade Confirmation w/Bishop Menjivar
END:VEVENT
BEGIN:VEVENT
UID:2915396@icchurchmd.org
DTSTAMP:20260420T014619Z
DTSTART:20260509T090000
DTEND:20260509T100000
SUMMARY:2nd Grade - First Holy Communion
END:VEVENT
BEGIN:VEVENT
UID:2915479@icchurchmd.org
DTSTAMP:20260420T014619Z
DTSTART:20260508T173000
DTEND:20260508T183000
SUMMARY:2nd Grade - 1st Communion Rehearsal
END:VEVENT
BEGIN:VEVENT
UID:2915487@icchurchmd.org
DTSTAMP:20260420T014619Z
DTSTART:20260504T190000
DTEND:20260504T200000
SUMMARY:8th Grade - Confirmation Rehearsal
END:VEVENT
BEGIN:VEVENT
UID:2915544@icchurchmd.org
DTSTAMP:20260420T014619Z
DTSTART:20260510T090000
DTEND:20260510T100000
SUMMARY:6th Grade - Take Part in Mass
END:VEVENT
BEGIN:VEVENT
UID:2960294@icchurchmd.org
DTSTAMP:20260420T014619Z
DTSTART:20260503T120000
DTEND:20260503T130000
SUMMARY:Catechist Meeting
END:VEVENT
END:VCALENDAR
